BEGIN:VCALENDAR
VERSION:2.0
PRODID:-//jEvents 2.0 for Joomla//EN
CALSCALE:GREGORIAN
METHOD:PUBLISH
BEGIN:VEVENT
UID:22af72dffdfba17859552a78c4883d3d
CATEGORIES:Veranstaltung
CREATED:20251201T191736
SUMMARY:Jahreshauptversammlung
DESCRIPTION:In Uniform\n
X-ALT-DESC;FMTTYPE=text/html:<p>In Uniform</p>
DTSTAMP:20260421T205048
DTSTART:20260207T183000
SEQUENCE:0
TRANSP:OPAQUE
END:VEVENT
END:VCALENDAR