BEGIN:VCALENDAR
VERSION:2.0
PRODID:-//jEvents 2.0 for Joomla//EN
CALSCALE:GREGORIAN
METHOD:PUBLISH
BEGIN:VEVENT
UID:ee993fd9f92dfe48ef29d6550305f02b
CATEGORIES:Veranstaltung
CREATED:20251201T192413
SUMMARY:Standreinigung
DESCRIPTION:Bitte Werkzeug mitbringen\n
X-ALT-DESC;FMTTYPE=text/html:<p>Bitte Werkzeug mitbringen</p>
DTSTAMP:20260421T191202
DTSTART:20260328T090000
SEQUENCE:0
TRANSP:OPAQUE
END:VEVENT
END:VCALENDAR