BEGIN:VCALENDAR
VERSION:2.0
PRODID:-//jEvents 2.0 for Joomla//EN
CALSCALE:GREGORIAN
METHOD:PUBLISH
BEGIN:VEVENT
UID:0ebc0c275272a74179cda43c4f907009
CATEGORIES:Veranstaltung
CREATED:20251201T193303
SUMMARY:Stammtisch der Männer
DESCRIPTION:
DTSTAMP:20260421T121649
DTSTART:20260508T173000
SEQUENCE:0
TRANSP:OPAQUE
END:VEVENT
END:VCALENDAR