BEGIN:VCALENDAR
VERSION:2.0
PRODID:-//jEvents 2.0 for Joomla//EN
CALSCALE:GREGORIAN
METHOD:PUBLISH
BEGIN:VEVENT
UID:f473025b12e24f7decf4ad5b1ebb9a6b
CATEGORIES:Vorstandssitzung
CREATED:20251201T195341
SUMMARY:Vorstandssitzung
DESCRIPTION:
DTSTAMP:20260421T171613
DTSTART:20260811T180000
SEQUENCE:0
TRANSP:OPAQUE
END:VEVENT
END:VCALENDAR