BEGIN:VCALENDAR
VERSION:2.0
PRODID:-//jEvents 2.0 for Joomla//EN
CALSCALE:GREGORIAN
METHOD:PUBLISH
BEGIN:VEVENT
UID:20281b3ba1245089548843c64444d565RR292
CATEGORIES:Veranstaltung
CREATED:20250522T092720
SUMMARY:Abkränzen mit Ausklang im/am Vereinshaus
DESCRIPTION:
DTSTAMP:20260421T153227
DTSTART:20250610T080000
SEQUENCE:0
TRANSP:OPAQUE
END:VEVENT
END:VCALENDAR