BEGIN:VCALENDAR
VERSION:2.0
PRODID:-//jEvents 2.0 for Joomla//EN
CALSCALE:GREGORIAN
METHOD:PUBLISH
BEGIN:VEVENT
UID:09aaae894b4fa180780ef589b9582930
CATEGORIES:Veranstaltung
CREATED:20250522T092829
SUMMARY:Bürgerkönigschießen in Holten
DESCRIPTION:
DTSTAMP:20260421T153350
DTSTART:20250615T090000
SEQUENCE:0
TRANSP:OPAQUE
END:VEVENT
END:VCALENDAR