BEGIN:VCALENDAR
VERSION:2.0
PRODID:-//jEvents 2.0 for Joomla//EN
CALSCALE:GREGORIAN
METHOD:PUBLISH
BEGIN:VEVENT
UID:8bdd872262ae07d80aaae398d9e1327a
CATEGORIES:Veranstaltung
CREATED:20250522T144906
SUMMARY:Stammtisch der Männer
DESCRIPTION:
DTSTAMP:20260421T191616
DTSTART:20250809T173000
SEQUENCE:0
TRANSP:OPAQUE
END:VEVENT
END:VCALENDAR