BEGIN:VCALENDAR
VERSION:2.0
PRODID:-//jEvents 2.0 for Joomla//EN
CALSCALE:GREGORIAN
METHOD:PUBLISH
BEGIN:VEVENT
UID:3c7396d8543e215f3b8353e906c9b6e5
CATEGORIES:Kleinkaliber
CREATED:19700101T010000
SUMMARY:Nach Absprache: KK-60 Schuss liegend
DESCRIPTION:
DTSTAMP:20260421T013221
DTSTART:20250523T160000
DTEND:20250523T180000
SEQUENCE:0
RRULE:FREQ=WEEKLY;UNTIL=20250531T000000Z;INTERVAL=1;BYDAY=FR
TRANSP:OPAQUE
END:VEVENT
END:VCALENDAR