BEGIN:VCALENDAR
VERSION:2.0
PRODID:-//jEvents 2.0 for Joomla//EN
CALSCALE:GREGORIAN
METHOD:PUBLISH
BEGIN:VEVENT
UID:0ec419065028bbc88c1376e318c2584c
CATEGORIES:Vorstandssitzung
CREATED:20250619T125617
SUMMARY:Vorstandssitzung
DESCRIPTION:
DTSTAMP:20260420T234003
DTSTART:20250715T180000
DTEND:20250715T200000
SEQUENCE:0
TRANSP:OPAQUE
END:VEVENT
END:VCALENDAR