BEGIN:VCALENDAR
VERSION:2.0
PRODID:-//jEvents 2.0 for Joomla//EN
CALSCALE:GREGORIAN
METHOD:PUBLISH
BEGIN:VEVENT
UID:44505bfb3bfc4ed218ea13225009ffa5
CATEGORIES:Veranstaltung
CREATED:20251201T191344
SUMMARY:Schießwarteversammlung
DESCRIPTION:
DTSTAMP:20260420T220503
DTSTART:20260114T183000
SEQUENCE:0
TRANSP:OPAQUE
END:VEVENT
END:VCALENDAR