BEGIN:VCALENDAR
VERSION:2.0
PRODID:-//jEvents 2.0 for Joomla//EN
CALSCALE:GREGORIAN
METHOD:PUBLISH
BEGIN:VEVENT
UID:4f3e68433257d0a2f9d6e7041a89b275
CATEGORIES:Veranstaltung
CREATED:20251201T191920
SUMMARY:Stammtisch für alle Mitglieder
DESCRIPTION:
DTSTAMP:20260420T232606
DTSTART:20260227T183000
SEQUENCE:0
TRANSP:OPAQUE
END:VEVENT
END:VCALENDAR