BEGIN:VCALENDAR
VERSION:2.0
PRODID:-//jEvents 2.0 for Joomla//EN
CALSCALE:GREGORIAN
METHOD:PUBLISH
BEGIN:VEVENT
UID:6e210173024f9b73bbf8863bdbdddcd2
CATEGORIES:Veranstaltung
CREATED:20251201T192126
SUMMARY:Stammtisch der Damen
DESCRIPTION:<p>Bei Pizzeria II Peperoncino</p>
DTSTAMP:20260420T232315
DTSTART:20260327T180000
SEQUENCE:0
TRANSP:OPAQUE
END:VEVENT
END:VCALENDAR