BEGIN:VCALENDAR
VERSION:2.0
PRODID:-//jEvents 2.0 for Joomla//EN
CALSCALE:GREGORIAN
METHOD:PUBLISH
BEGIN:VEVENT
UID:44cfb1a9aae9bd178996591c101be360
CATEGORIES:Veranstaltung
CREATED:20251201T192528
SUMMARY:Osterolympiade der Jugend
DESCRIPTION:
DTSTAMP:20260420T232316
DTSTART:20260403T090000
SEQUENCE:0
TRANSP:OPAQUE
END:VEVENT
END:VCALENDAR