BEGIN:VCALENDAR
VERSION:2.0
PRODID:-//jEvents 2.0 for Joomla//EN
CALSCALE:GREGORIAN
METHOD:PUBLISH
BEGIN:VEVENT
UID:14f653f650603f7ed50330dd7f3bc9fb
CATEGORIES:Veranstaltung
CREATED:20251201T193144
SUMMARY:Albert Benninghoff Gedächtnispokalschießen
DESCRIPTION:
DTSTAMP:20260420T192035
DTSTART:20260501T120000
SEQUENCE:0
TRANSP:OPAQUE
END:VEVENT
END:VCALENDAR