BEGIN:VCALENDAR
VERSION:2.0
PRODID:-//jEvents 2.0 for Joomla//EN
CALSCALE:GREGORIAN
METHOD:PUBLISH
BEGIN:VEVENT
UID:1d286640087862b1b6797cc13d21d2c8
CATEGORIES:Veranstaltung
CREATED:20251201T193415
SUMMARY:Bierfaßschießen beim BSV Schmachtendorf
DESCRIPTION:
DTSTAMP:20260420T222132
DTSTART:20260514T090000
SEQUENCE:0
TRANSP:OPAQUE
END:VEVENT
END:VCALENDAR