BEGIN:VCALENDAR
VERSION:2.0
PRODID:-//jEvents 2.0 for Joomla//EN
CALSCALE:GREGORIAN
METHOD:PUBLISH
BEGIN:VEVENT
UID:5916818ca767d214ae27992ff13a96d1
CATEGORIES:Veranstaltung
CREATED:20251201T193529
SUMMARY:Maien schlagen und Zelt ausschmücken
DESCRIPTION:
DTSTAMP:20260420T191228
DTSTART:20260522T150000
SEQUENCE:0
TRANSP:OPAQUE
END:VEVENT
END:VCALENDAR