BEGIN:VCALENDAR
VERSION:2.0
PRODID:-//jEvents 2.0 for Joomla//EN
CALSCALE:GREGORIAN
METHOD:PUBLISH
BEGIN:VEVENT
UID:5ba6c4732f027b92965c212a16f25b3e
CATEGORIES:Veranstaltung
CREATED:20251201T193639
SUMMARY:Schützenfest
DESCRIPTION:
DTSTAMP:20260420T212156
DTSTART;VALUE=DATE:20260523
DTEND;VALUE=DATE:20260526
SEQUENCE:0
TRANSP:OPAQUE
END:VEVENT
END:VCALENDAR