BEGIN:VCALENDAR
VERSION:2.0
PRODID:-//jEvents 2.0 for Joomla//EN
CALSCALE:GREGORIAN
METHOD:PUBLISH
BEGIN:VEVENT
UID:50ba3e7f016d2560dac2d234ae00eb2f
CATEGORIES:Veranstaltung
CREATED:20251201T193859
SUMMARY:Abkränzen mit Ausklang im/am Vereinshaus
DESCRIPTION:
DTSTAMP:20260420T205206
DTSTART:20260526T080000
SEQUENCE:0
TRANSP:OPAQUE
END:VEVENT
END:VCALENDAR