BEGIN:VCALENDAR
VERSION:2.0
PRODID:-//jEvents 2.0 for Joomla//EN
CALSCALE:GREGORIAN
METHOD:PUBLISH
BEGIN:VEVENT
UID:5e9093442533d5a4c5d0f5cb44ba65eb
CATEGORIES:Veranstaltung
CREATED:20251201T193956
SUMMARY:Schützenfest beim BSV 1461 Dinslaken
DESCRIPTION:
DTSTAMP:20260421T015556
DTSTART;VALUE=DATE:20260620
DTEND;VALUE=DATE:20260621
SEQUENCE:0
TRANSP:OPAQUE
END:VEVENT
END:VCALENDAR