BEGIN:VCALENDAR
VERSION:2.0
PRODID:-//jEvents 2.0 for Joomla//EN
CALSCALE:GREGORIAN
METHOD:PUBLISH
BEGIN:VEVENT
UID:3e0696455a669d2ec705aa5f31307314
CATEGORIES:Veranstaltung
CREATED:20251201T194226
SUMMARY:Schützenfest in Holten
DESCRIPTION:<p>In Uniform</p>
DTSTAMP:20260420T222202
DTSTART:20260622T170000
SEQUENCE:0
TRANSP:OPAQUE
END:VEVENT
END:VCALENDAR