BEGIN:VCALENDAR
VERSION:2.0
PRODID:-//jEvents 2.0 for Joomla//EN
CALSCALE:GREGORIAN
METHOD:PUBLISH
BEGIN:VEVENT
UID:74d0e4c06a1735257f1d7698daf83dbe
CATEGORIES:Veranstaltung
CREATED:20251201T194320
SUMMARY:Sommer- und Damenpreisschießen
DESCRIPTION:
DTSTAMP:20260420T222130
DTSTART:20260627T120000
SEQUENCE:0
TRANSP:OPAQUE
END:VEVENT
END:VCALENDAR