BEGIN:VCALENDAR
VERSION:2.0
PRODID:-//jEvents 2.0 for Joomla//EN
CALSCALE:GREGORIAN
METHOD:PUBLISH
BEGIN:VEVENT
UID:8296b50855754ebb782acc1bcd75173a
CATEGORIES:Vorstandssitzung
CREATED:20251201T194818
SUMMARY:Vorstandssitzung
DESCRIPTION:
DTSTAMP:20260421T021923
DTSTART:20260414T180000
SEQUENCE:0
TRANSP:OPAQUE
END:VEVENT
END:VCALENDAR