BEGIN:VCALENDAR
VERSION:2.0
PRODID:-//jEvents 2.0 for Joomla//EN
CALSCALE:GREGORIAN
METHOD:PUBLISH
BEGIN:VEVENT
UID:a03ac9efc7cb3c3ed4b63c170df835d7
CATEGORIES:Vorstandssitzung
CREATED:20251201T195604
SUMMARY:Vorstandssitzung
DESCRIPTION:
DTSTAMP:20260421T052801
DTSTART:20261013T180000
SEQUENCE:0
TRANSP:OPAQUE
END:VEVENT
END:VCALENDAR