BEGIN:VCALENDAR
VERSION:2.0
PRODID:-//jEvents 2.0 for Joomla//EN
CALSCALE:GREGORIAN
METHOD:PUBLISH
BEGIN:VEVENT
UID:f793e5831d0ea2ce6908bb6c98d60f55
CATEGORIES:Kleinkaliber
CREATED:20251201T205126
SUMMARY:KK-Schießen gesellig
DESCRIPTION:
DTSTAMP:20260421T004517
DTSTART:20260106T190000
DTEND:20260106T210000
SEQUENCE:0
TRANSP:OPAQUE
END:VEVENT
END:VCALENDAR