BEGIN:VCALENDAR
VERSION:2.0
PRODID:-//jEvents 2.0 for Joomla//EN
CALSCALE:GREGORIAN
METHOD:PUBLISH
BEGIN:VEVENT
UID:484f878a71882993c90c19dd913f23ba
CATEGORIES:Veranstaltung
CREATED:20250521T103052
SUMMARY:Maien schlagen und Zelt ausschmücken
DESCRIPTION:
DTSTAMP:20260421T035338
DTSTART:20250606T150000
SEQUENCE:0
TRANSP:OPAQUE
END:VEVENT
END:VCALENDAR