BEGIN:VCALENDAR
VERSION:2.0
PRODID:-//jEvents 2.0 for Joomla//EN
CALSCALE:GREGORIAN
METHOD:PUBLISH
BEGIN:VEVENT
UID:9d2ee7f2fb2e4439ad1697e66b2726aeRR290
CATEGORIES:Veranstaltung
CREATED:20250522T092121
SUMMARY:Frühschoppen im Zelt
DESCRIPTION:<p>mit dem DJ Event Service Curlysound</p>
DTSTAMP:20260421T032010
DTSTART:20250609T090000
DTEND:20250609T151500
SEQUENCE:0
TRANSP:OPAQUE
END:VEVENT
END:VCALENDAR