BEGIN:VCALENDAR
VERSION:2.0
PRODID:-//jEvents 2.0 for Joomla//EN
CALSCALE:GREGORIAN
METHOD:PUBLISH
BEGIN:VEVENT
UID:43fb2dadaae1650f07768688101b9a10
CATEGORIES:Veranstaltung
CREATED:20250522T092353
SUMMARY:Inthronisation
DESCRIPTION:<p>im Festzelt mit anschließender Party</p>
DTSTAMP:20260421T033246
DTSTART:20250609T153000
DTEND:20250609T180000
SEQUENCE:0
TRANSP:OPAQUE
END:VEVENT
END:VCALENDAR