BEGIN:VCALENDAR
VERSION:2.0
PRODID:-//jEvents 2.0 for Joomla//EN
CALSCALE:GREGORIAN
METHOD:PUBLISH
BEGIN:VEVENT
UID:04c2dff9e36aba0986b53ac219535603
CATEGORIES:Veranstaltung
CREATED:20250522T143456
SUMMARY:Kreiskönig- und Kreisjugendkönigschießen
LOCATION:Bergerstraße 354\, 46539 Dinslaken
DESCRIPTION:<p>In Uniform beim BSV Oberlohberg</p>
DTSTAMP:20260420T235556
DTSTART:20250706T110000
SEQUENCE:0
TRANSP:OPAQUE
END:VEVENT
END:VCALENDAR