BEGIN:VCALENDAR
VERSION:2.0
PRODID:-//jEvents 2.0 for Joomla//EN
CALSCALE:GREGORIAN
METHOD:PUBLISH
BEGIN:VEVENT
UID:720bdf1671809053c89a70e54feae683
CATEGORIES:Veranstaltung
CREATED:20250522T144253
SUMMARY:Stammtisch der Männer
DESCRIPTION:
DTSTAMP:20260421T011146
DTSTART:20250711T173000
SEQUENCE:0
TRANSP:OPAQUE
END:VEVENT
END:VCALENDAR