BEGIN:VCALENDAR
VERSION:2.0
PRODID:-//jEvents 2.0 for Joomla//EN
CALSCALE:GREGORIAN
METHOD:PUBLISH
BEGIN:VEVENT
UID:aa55e82a15eb754bf80022c988dae928
CATEGORIES:Veranstaltung
CREATED:20250522T144443
SUMMARY:Seniorenkönigschießen
DESCRIPTION:ab 50 Jahre\n
X-ALT-DESC;FMTTYPE=text/html:<p>ab 50 Jahre</p>
DTSTAMP:20260421T013221
DTSTART:20250802T130000
SEQUENCE:0
TRANSP:OPAQUE
END:VEVENT
END:VCALENDAR