BEGIN:VCALENDAR
VERSION:2.0
PRODID:-//jEvents 2.0 for Joomla//EN
CALSCALE:GREGORIAN
METHOD:PUBLISH
BEGIN:VEVENT
UID:5d9c0db5452b4f7f5bce426d45adfb67
CATEGORIES:Veranstaltung
CREATED:20250522T145819
SUMMARY:Stadtkönigschießen
LOCATION:Alleestraße 64\, 46535 Dinslaken
DESCRIPTION:<p>beim BSV Dinslaken 1461 in Uniform</p>
DTSTAMP:20260421T045412
DTSTART:20250913T120000
SEQUENCE:0
TRANSP:OPAQUE
END:VEVENT
END:VCALENDAR