BEGIN:VCALENDAR
VERSION:2.0
PRODID:-//jEvents 2.0 for Joomla//EN
CALSCALE:GREGORIAN
METHOD:PUBLISH
BEGIN:VEVENT
UID:6755480db0aa0c4a9a49ba6031242056
CATEGORIES:Veranstaltung
CREATED:20250522T151045
SUMMARY:Stammtisch der Damen
LOCATION:Graßhofstraße 139 a\, 46147 Oberhausen
DESCRIPTION:Il Peperocino\n
X-ALT-DESC;FMTTYPE=text/html:<p>Il Peperocino</p>
DTSTAMP:20260421T052802
DTSTART:20251212T180000
SEQUENCE:0
TRANSP:OPAQUE
END:VEVENT
END:VCALENDAR