BEGIN:VCALENDAR
VERSION:2.0
PRODID:-//jEvents 2.0 for Joomla//EN
CALSCALE:GREGORIAN
METHOD:PUBLISH
BEGIN:VEVENT
UID:a01e50f2242e4f2d79f5f6e5fd4bc6b9
CATEGORIES:Veranstaltung
CREATED:20250522T151433
SUMMARY:Sparclubauszahlung
DESCRIPTION:<p>in der Vogelhalle</p>
DTSTAMP:20260421T025559
DTSTART:20251128T183000
SEQUENCE:0
TRANSP:OPAQUE
END:VEVENT
END:VCALENDAR