BEGIN:VCALENDAR
VERSION:2.0
PRODID:-//jEvents 2.0 for Joomla//EN
CALSCALE:GREGORIAN
METHOD:PUBLISH
BEGIN:VEVENT
UID:e8cacc7de2f85ca44fb3c718c86e1b31
CATEGORIES:Veranstaltung
CREATED:20250522T151546
SUMMARY:Jugendjahreshauptversammlung
DESCRIPTION:
DTSTAMP:20260421T005057
DTSTART:20251213T140000
SEQUENCE:0
TRANSP:OPAQUE
END:VEVENT
END:VCALENDAR