BEGIN:VCALENDAR
VERSION:2.0
PRODID:-//jEvents 2.0 for Joomla//EN
CALSCALE:GREGORIAN
METHOD:PUBLISH
BEGIN:VEVENT
UID:992520e573be6ae14f12d38afbd468b2
CATEGORIES:Veranstaltung
CREATED:20250522T151644
SUMMARY:Jahresabschlusstreffen
DESCRIPTION:<p>in der Vogelhalle</p>
DTSTAMP:20260421T053321
DTSTART:20251219T190000
SEQUENCE:0
TRANSP:OPAQUE
END:VEVENT
END:VCALENDAR