BEGIN:VCALENDAR
VERSION:2.0
PRODID:-//jEvents 2.0 for Joomla//EN
CALSCALE:GREGORIAN
METHOD:PUBLISH
BEGIN:VEVENT
UID:5b60bf46983faff108610efc17cd4f5c
CATEGORIES:Kleinkaliber
CREATED:20250523T110808
SUMMARY:KK Schießen gesellig
DESCRIPTION:
DTSTAMP:20260420T192344
DTSTART:20250525T080000
DTEND:20250525T100000
SEQUENCE:0
TRANSP:OPAQUE
END:VEVENT
END:VCALENDAR