BEGIN:VCALENDAR
VERSION:2.0
PRODID:-//jEvents 2.0 for Joomla//EN
CALSCALE:GREGORIAN
METHOD:PUBLISH
BEGIN:VEVENT
UID:880be1ebab9c83b2bab0949e492e283c
CATEGORIES:Kleinkaliber
CREATED:20250523T111930
SUMMARY:KK Schießen gesellig
DESCRIPTION:
DTSTAMP:20260420T192753
DTSTART:20250527T180000
DTEND:20250527T200000
SEQUENCE:0
TRANSP:OPAQUE
END:VEVENT
END:VCALENDAR